BEGIN:VCALENDAR
METHOD:PUBLISH
CALSCALE:GREGORIAN
PRODID:Philharmonie.lu
VERSION:2.0
BEGIN:VEVENT
DTSTAMP:20211007T064100
DTSTART:20191018T200000
DTEND:20191018T220000
LOCATION:Grand Auditorium
SUMMARY:Paavo Järvi – Bruckner 8 / OPL 
DESCRIPTION:None
Richard Strauss: Josephs Legende. Symphonisches Fragment
Anton Bruckner: Symphonie N° 8
UID:event2311@Philharmonie.lu
URL:https://www.philharmonie.lu/programm/paavo-jarvi-bruckner-8-opl/2311
END:VEVENT
END:VCALENDAR
