BEGIN:VCALENDAR
METHOD:PUBLISH
CALSCALE:GREGORIAN
PRODID:Philharmonie.lu
VERSION:2.0
BEGIN:VEVENT
DTSTAMP:20211007T063900
DTSTART:20191001T200000
DTEND:20191001T220000
LOCATION:Salle de Musique de Chambre
SUMMARY:Rising star Simon Höfele
DESCRIPTION:None
György Ligeti: Mysteries of the Macabre (arr. Elgar Howarth)
Sergueï Prokofiev: Toccata op. 11
Philippe Gaubert: Cantabile et Scherzetto
George Enescu: Légende pour trompette et piano
Miroslav Srnka: Milky Way  for trumpet and piano or marimba (commande ECHO)
Maurice Ravel: Pavane pour une infante défunte
George Gershwin: Rhapsody in Blue (arr. Timofeï Dokchitser)
George Gershwin: Three Preludes (arr. pour trompette et piano)
UID:event2292@Philharmonie.lu
URL:https://www.philharmonie.lu/programm/rising-star-simon-hofele/2292
END:VEVENT
END:VCALENDAR
