BEGIN:VCALENDAR
METHOD:PUBLISH
CALSCALE:GREGORIAN
PRODID:Philharmonie.lu
VERSION:2.0
BEGIN:VEVENT
DTSTAMP:20211007T064200
DTSTART:20200610T190000
DTEND:20200610T210000
LOCATION:Grand Auditorium
SUMMARY:Rolando Villazón «Mozart et les femmes»
DESCRIPTION:Les figures féminines dans la vie et l’œuvre de Mozart
Wolfgang A. Mozart: Symphonie N° 36 KV 425 «Linzer» / «Linz»: I. Adagio – Allegro spiritoso
Wolfgang A. Mozart: «Il mio tesoro intanto» (Don Giovanni)
Wolfgang A. Mozart: Klavierkonzert N° 21 KV 467: I. Allegro maestoso
Wolfgang A. Mozart: «Et incarnatus est» (Messe c-moll [ut mineur] KV 427 [417a])
Wolfgang A. Mozart: Symphonie N° 36 KV 425 «Linzer» / «Linz»: II. Poco adagio
Wolfgang A. Mozart: «Marten aller arten» (Die Entführung aus dem Serail) KV 384 
Wolfgang A. Mozart: Symphonie N° 36 KV 425 «Linzer» / «Linz»: III. Menuetto – Trio
Wolfgang A. Mozart: «Con ossequio, con rispetto» KV 210
Wolfgang A. Mozart: «Bella mia fiamma – Resta o cara» KV 528
Wolfgang A. Mozart: Klavierkonzert N° 23 KV 488: II. Adagio
Wolfgang A. Mozart: Symphonie N° 36 KV 425 «Linzer» / «Linz»:  IV. Presto
UID:event2533@Philharmonie.lu
URL:https://www.philharmonie.lu/programm/rolando-villazon-mozart-et-les-femmes/2533
END:VEVENT
END:VCALENDAR
