BEGIN:VCALENDAR
METHOD:PUBLISH
CALSCALE:GREGORIAN
PRODID:Philharmonie.lu
VERSION:2.0
BEGIN:VEVENT
DTSTAMP:20211009T014200
DTSTART:20211003T190000
DTEND:20211003T210000
LOCATION:Salle de Musique de Chambre
SUMMARY:Sabine Devieilhe & Alexandre Tharaud
DESCRIPTION:None
Claude Debussy: «Nuit d&#39;étoiles»
Gabriel Fauré: «Notre amour» op. 23/2
Gabriel Fauré: «Après un rêve» op. 7/1
Gabriel Fauré: «Au bord de l&#39;eau» op. 8/1
Francis Poulenc: La Courte Paille FP 178
Claude Debussy: Prélude à l&#39;après-midi d&#39;un faune (arr. Alexandre Tharaud)
Claude Debussy: «LʼÂme évaporée» (Deux Romances)
Claude Debussy: «La Romance dʼAriel»
Claude Debussy: «Apparition»
Louis Beydts: Chansons pour les oiseaux
Maurice Ravel: Cinq Mélodies populaires grecques
Claude Debussy: Ariettes oubliées
UID:event3447@Philharmonie.lu
URL:https://www.philharmonie.lu/programm/sabine-devieilhe-alexandre-tharaud/3447
END:VEVENT
END:VCALENDAR
