BEGIN:VCALENDAR
METHOD:PUBLISH
CALSCALE:GREGORIAN
PRODID:Philharmonie.lu
VERSION:2.0
BEGIN:VEVENT
DTSTAMP:20211007T061500
DTSTART:20180127T103000
DTEND:20180127T113000
LOCATION:Auditorium
SUMMARY:«Schnack»
DESCRIPTION:Spectacle musical et interactif pour les tout petits
UID:event1556@Philharmonie.lu
URL:https://www.philharmonie.lu/programm/schnack/1556
END:VEVENT
END:VCALENDAR
