BEGIN:VCALENDAR
METHOD:PUBLISH
CALSCALE:GREGORIAN
PRODID:Philharmonie.lu
VERSION:2.0
BEGIN:VEVENT
DTSTAMP:20211007T063200
DTSTART:20171118T103000
DTEND:20171118T113000
LOCATION:Auditorium
SUMMARY:«Schnick»
DESCRIPTION:Spectacle musical et interactif pour les tout-petits

UID:event1507@Philharmonie.lu
URL:https://www.philharmonie.lu/programm/schnick/1507
END:VEVENT
END:VCALENDAR
