BEGIN:VCALENDAR
METHOD:PUBLISH
CALSCALE:GREGORIAN
PRODID:Philharmonie.lu
VERSION:2.0
BEGIN:VEVENT
DTSTAMP:20200127T144200
DTSTART:20200427T200000
DTEND:20200427T220000
LOCATION:Grand Auditorium
SUMMARY:SEL / König / Acelga Quintett
DESCRIPTION:None
Wolfgang A. Mozart: Ein musikalischer Spaß KV 522
Julius Rietz: Konzertstück für Bläserquintett und Orchester op. 41
Arvo Pärt: Wenn Bach Bienen gezüchtet hätte...
Joseph Haydn: Symphonie N° 60 «Il distratto»
Gioacchino Rossini: Il signor Bruschino: Ouverture
UID:event2496@Philharmonie.lu
URL:https://www.philharmonie.lu/programm/sel-konig-acelga-quintett/2496
END:VEVENT
END:VCALENDAR
