BEGIN:VCALENDAR
METHOD:PUBLISH
CALSCALE:GREGORIAN
PRODID:Philharmonie.lu
VERSION:2.0
BEGIN:VEVENT
DTSTAMP:20210423T110300
DTSTART:20190406T200000
DTEND:20190406T220000
LOCATION:Grand Auditorium
SUMMARY:Side by Side – Chostakovitch
DESCRIPTION:None
Dmitri Chostakovitch: Ouverture festive
Dmitri Chostakovitch: Symphonie N° 5
UID:event1958@Philharmonie.lu
URL:https://www.philharmonie.lu/programm/side-by-side-chostakovitch/1958
END:VEVENT
END:VCALENDAR
