BEGIN:VCALENDAR
METHOD:PUBLISH
CALSCALE:GREGORIAN
PRODID:Philharmonie.lu
VERSION:2.0
BEGIN:VEVENT
DTSTAMP:20211009T014200
DTSTART:20211005T200000
DTEND:20211005T220000
LOCATION:Grand Auditorium
SUMMARY:Stephan Eicher – Homeless Songs Tour
DESCRIPTION:None
UID:event3156@Philharmonie.lu
URL:https://www.philharmonie.lu/programm/stephan-eicher-homeless-songs-tour/3156
END:VEVENT
END:VCALENDAR
