BEGIN:VCALENDAR
METHOD:PUBLISH
CALSCALE:GREGORIAN
PRODID:Philharmonie.lu
VERSION:2.0
BEGIN:VEVENT
DTSTAMP:20211009T014900
DTSTART:20211025T193000
DTEND:20211025T213000
LOCATION:Salle de Musique de Chambre
SUMMARY:Tabea Zimmermann
DESCRIPTION:None
Paul Hindemith: Sonate für Bratsche allein op. 25/1
György Ligeti: Sonate pour alto solo
György Kurtág: signs, games and messages: N° 3: Panaszos nóta (vibrato előtanulmány) (Klagendes Lied [Vibrato-Vorstudie])
György Kurtág: signs, games and messages: N° 4: Kromatikus feleselős (Zank – Kromatisch)
György Kurtág: Gruss an Ulrich Eckhardt 60 
György Kurtág: signs, games and messages: N° 13: In Nomine – all&#39;ongherese (Damjanich emlékkő)
Johann Sebastian Bach: Cellosuite N° 4 BWV 1010
Enno Poppe: Filz solo
Georges Lentz: Anyente from «Mysterium» («Caeli enarrant…» VII) for solo viola (création)
UID:event3615@Philharmonie.lu
URL:https://www.philharmonie.lu/programm/tabea-zimmermann/3615
END:VEVENT
END:VCALENDAR
