BEGIN:VCALENDAR
METHOD:PUBLISH
CALSCALE:GREGORIAN
PRODID:Philharmonie.lu
VERSION:2.0
BEGIN:VEVENT
DTSTAMP:20211007T054200
DTSTART:20190203T103000
DTEND:20190203T113000
LOCATION:Auditorium
SUMMARY:«Terranova»
DESCRIPTION:Spectacle musical et interactif pour les tout petits
UID:event2033@Philharmonie.lu
URL:https://www.philharmonie.lu/programm/terranova/2033
END:VEVENT
END:VCALENDAR
