BEGIN:VCALENDAR
METHOD:PUBLISH
CALSCALE:GREGORIAN
PRODID:Philharmonie.lu
VERSION:2.0
BEGIN:VEVENT
DTSTAMP:20211011T130600
DTSTART:20211126T193000
DTEND:20211126T213000
LOCATION:Salle de Musique de Chambre
SUMMARY:The Gurdjieff Ensemble
DESCRIPTION:None
Music by Gurdjieff, Komitas, Armenian sacred and secular music 
UID:event3437@Philharmonie.lu
URL:https://www.philharmonie.lu/programm/the-gurdjieff-ensemble/3437
END:VEVENT
END:VCALENDAR
