BEGIN:VCALENDAR
METHOD:PUBLISH
CALSCALE:GREGORIAN
PRODID:Philharmonie.lu
VERSION:2.0
BEGIN:VEVENT
DTSTAMP:20211009T014400
DTSTART:20211009T143000
DTEND:20211009T163000
LOCATION:Philharmonie, Künstlereingang
SUMMARY:Visite guidée
DESCRIPTION:Visite en français de la Philharmonie Luxembourg 
UID:event3784@Philharmonie.lu
URL:https://www.philharmonie.lu/programm/visite-guidee/3784
END:VEVENT
END:VCALENDAR
