BEGIN:VCALENDAR
METHOD:PUBLISH
CALSCALE:GREGORIAN
PRODID:Philharmonie.lu
VERSION:2.0
BEGIN:VEVENT
DTSTAMP:20211009T014500
DTSTART:20211016T143000
DTEND:20211016T163000
LOCATION:Philharmonie, Künstlereingang
SUMMARY:Visite guidée
DESCRIPTION:Visite en français de la Philharmonie Luxembourg 
UID:event3787@Philharmonie.lu
URL:https://www.philharmonie.lu/programm/visite-guidee/3787
END:VEVENT
END:VCALENDAR
