BEGIN:VCALENDAR
METHOD:PUBLISH
CALSCALE:GREGORIAN
PRODID:Philharmonie.lu
VERSION:2.0
BEGIN:VEVENT
DTSTAMP:20211011T130500
DTSTART:20211105T190000
DTEND:20211105T210000
LOCATION:Grand Auditorium
SUMMARY:William Kentridge & Ricercar Consort – «Il ritorno d’Ulisse»
DESCRIPTION:Opéra de chambre avec marionnettes
Claudio Monteverdi: Il ritorno d&#39;Ulisse in patria
UID:event3617@Philharmonie.lu
URL:https://www.philharmonie.lu/programm/william-kentridge-ricercar-consort-il-ritorno-dulisse/3617
END:VEVENT
END:VCALENDAR
