BEGIN:VCALENDAR
METHOD:PUBLISH
CALSCALE:GREGORIAN
PRODID:Philharmonie.lu
VERSION:2.0
BEGIN:VEVENT
DTSTAMP:20200127T144400
DTSTART:20180116T173000
DTEND:20180116T193000
LOCATION:Espace Découverte
SUMMARY:Yoga & Music
DESCRIPTION:None
SACEM PROTECTED RIGHTS HOLDER: SACEM PROTECTED
UID:event1542@Philharmonie.lu
URL:https://www.philharmonie.lu/programm/yoga-music/1542
END:VEVENT
END:VCALENDAR
