BEGIN:VCALENDAR
METHOD:PUBLISH
CALSCALE:GREGORIAN
PRODID:Philharmonie.lu
VERSION:2.0
BEGIN:VEVENT
DTSTAMP:20211011T130600
DTSTART:20211121T200000
DTEND:20211121T220000
LOCATION:Grand Auditorium
SUMMARY:Yuja Wang & Gautier Capuçon
DESCRIPTION:None
Claude Debussy: Sonate pour violoncelle et piano
Dmitri Chostakovitch: Sonate pour violoncelle et piano op. 40
Sergueï Rachmaninov: Sonate pour violoncelle et piano op. 19
UID:event3431@Philharmonie.lu
URL:https://www.philharmonie.lu/programm/yuja-wang-gautier-capucon/3431
END:VEVENT
END:VCALENDAR
