BEGIN:VCALENDAR
METHOD:PUBLISH
CALSCALE:GREGORIAN
PRODID:Philharmonie.lu
VERSION:2.0
BEGIN:VEVENT
DTSTAMP:20211011T130500
DTSTART:20211106T200000
DTEND:20211106T220000
LOCATION:Grand Auditorium
SUMMARY:Zubin Mehta / Orchestra del Maggio Musicale Fiorentino
DESCRIPTION:None
Anton Bruckner: Symphonie N° 9
UID:event3408@Philharmonie.lu
URL:https://www.philharmonie.lu/programm/zubin-mehta-orchestra-del-maggio-musicale-fiorentino/3408
END:VEVENT
END:VCALENDAR
