BEGIN:VCALENDAR
METHOD:PUBLISH
CALSCALE:GREGORIAN
PRODID:Philharmonie.lu
VERSION:2.0
BEGIN:VEVENT
DTSTAMP:20210424T160500
DTSTART:20201115T170000
DTEND:20201115T190000
LOCATION:Grand Auditorium
SUMMARY:«11+4+5+4»
DESCRIPTION:Concert d’une collectivité
Rama Gottfried: Animism (création, commande Philharmonie)
Irene Galindo Quero: rain washes off all the other colours (création de la nouvelle version)
UID:event3045@Philharmonie.lu
URL:https://www.philharmonie.lu/programm/11454/3045
END:VEVENT
END:VCALENDAR
