BEGIN:VCALENDAR
METHOD:PUBLISH
CALSCALE:GREGORIAN
PRODID:Philharmonie.lu
VERSION:2.0
BEGIN:VEVENT
DTSTAMP:20210424T160400
DTSTART:20201115T150000
DTEND:20201115T170000
LOCATION:Salle de Musique de Chambre
SUMMARY:«À l’Instant»
DESCRIPTION:Une étroite amitié artistique
Georges Aperghis: Trio Funambule pour piano, saxophone et percussion
Georges Aperghis: Le corps à corps pour un percussionniste et son zarb
Georges Aperghis: À l&#39;Instant (création, commande Philharmonie et L&#39;Instant Donné)
UID:event3042@Philharmonie.lu
URL:https://www.philharmonie.lu/programm/a-linstant/3042
END:VEVENT
END:VCALENDAR
