BEGIN:VCALENDAR
METHOD:PUBLISH
CALSCALE:GREGORIAN
PRODID:Philharmonie.lu
VERSION:2.0
BEGIN:VEVENT
DTSTAMP:20210422T220300
DTSTART:20210325T200000
DTEND:20210325T220000
LOCATION:Grand Auditorium
SUMMARY:Alexandre Kantorow / Gustavo Gimeno / OPL
DESCRIPTION:None
Camille Saint-Saëns: Concerto pour piano et orchestre N° 5 «L&#39;Égyptien»
Robert Schumann: Symphonie N° 3 «Rheinische» / «Rhénane»
UID:event3248@Philharmonie.lu
URL:https://www.philharmonie.lu/programm/alexandre-kantorow-gustavo-gimeno-opl/3248
END:VEVENT
END:VCALENDAR
