BEGIN:VCALENDAR
METHOD:PUBLISH
CALSCALE:GREGORIAN
PRODID:Philharmonie.lu
VERSION:2.0
BEGIN:VEVENT
DTSTAMP:20210424T160300
DTSTART:20201113T210000
DTEND:20201113T230000
LOCATION:Luxembourg, Carré
SUMMARY:«Alternate African Reality»
DESCRIPTION:Concert électronique
Cedrik Fermont: nouvelle œuvre
Sélection de l’album «Alternate African Reality»
UID:event3036@Philharmonie.lu
URL:https://www.philharmonie.lu/programm/alternate-african-reality/3036
END:VEVENT
END:VCALENDAR
