BEGIN:VCALENDAR
METHOD:PUBLISH
CALSCALE:GREGORIAN
PRODID:Philharmonie.lu
VERSION:2.0
BEGIN:VEVENT
DTSTAMP:20210424T160600
DTSTART:20201121T200000
DTEND:20201121T220000
LOCATION:Grand Auditorium
SUMMARY:Anthony Braxton ZIM Music Duo
DESCRIPTION:None
UID:event2805@Philharmonie.lu
URL:https://www.philharmonie.lu/programm/anthony-braxton-zim-music-duo/2805
END:VEVENT
END:VCALENDAR
