BEGIN:VCALENDAR
METHOD:PUBLISH
CALSCALE:GREGORIAN
PRODID:Philharmonie.lu
VERSION:2.0
BEGIN:VEVENT
DTSTAMP:20210422T215800
DTSTART:20210312T200000
DTEND:20210312T220000
LOCATION:Grand Auditorium
SUMMARY:Beethoven 9 | CCL | Grosu
DESCRIPTION:None
Ludwig van Beethoven: Symphonie N° 9
UID:event3020@Philharmonie.lu
URL:https://www.philharmonie.lu/programm/beethoven-9-ccl-grosu/3020
END:VEVENT
END:VCALENDAR
