BEGIN:VCALENDAR
METHOD:PUBLISH
CALSCALE:GREGORIAN
PRODID:Philharmonie.lu
VERSION:2.0
BEGIN:VEVENT
DTSTAMP:20210422T220000
DTSTART:20210317T200000
DTEND:20210317T220000
LOCATION:Salle de Musique de Chambre
SUMMARY:Bejun Mehta
DESCRIPTION:None
Wolfgang A. Mozart: «Ombra felice»
Ludwig van Beethoven: An die ferne Geliebte (À la bien-aimée lointaine) op. 98
Joseph Haydn: Arianna a Naxos Hob.XXVIb:2
Benjamin Britten: Canticle I
Gustav Mahler: Rückert-Lieder
UID:event2925@Philharmonie.lu
URL:https://www.philharmonie.lu/programm/bejun-mehta/2925
END:VEVENT
END:VCALENDAR
