BEGIN:VCALENDAR
METHOD:PUBLISH
CALSCALE:GREGORIAN
PRODID:Philharmonie.lu
VERSION:2.0
BEGIN:VEVENT
DTSTAMP:20210422T215900
DTSTART:20210316T180000
DTEND:20210316T200000
LOCATION:Grand Auditorium
SUMMARY:Belcea Quartet / Tabea Zimmermann / Jean-Guihen Queyras
DESCRIPTION:None
Johannes Brahms: Streichsextett N° 1
Johannes Brahms: Streichsextett N° 2
UID:event3225@Philharmonie.lu
URL:https://www.philharmonie.lu/programm/belcea-quartet-tabea-zimmermann-jean-guihen-queyras/3225
END:VEVENT
END:VCALENDAR
