BEGIN:VCALENDAR
METHOD:PUBLISH
CALSCALE:GREGORIAN
PRODID:Philharmonie.lu
VERSION:2.0
BEGIN:VEVENT
DTSTAMP:20210422T220400
DTSTART:20210329T200000
DTEND:20210329T220000
LOCATION:Salle de Musique de Chambre
SUMMARY:BRIDGES 2 /  MAGICAL RUSSIA - CD release
DESCRIPTION:CD release
Œuvres de Aliabiev, Glinka, Rubinstein, Stravinsky, Tchaïkovski, Zimbalist
UID:event3168@Philharmonie.lu
URL:https://www.philharmonie.lu/programm/bridges-2-magical-russia-cd-release/3168
END:VEVENT
END:VCALENDAR
