BEGIN:VCALENDAR
METHOD:PUBLISH
CALSCALE:GREGORIAN
PRODID:Philharmonie.lu
VERSION:2.0
BEGIN:VEVENT
DTSTAMP:20210424T160300
DTSTART:20201114T110000
DTEND:20201114T130000
LOCATION:Place de l&#39;Europe
SUMMARY:«Caravane»
DESCRIPTION:Performance sonore pour un spectateur dans une caravane
Charlie Sdraulig: Collector
UID:event3037@Philharmonie.lu
URL:https://www.philharmonie.lu/programm/caravane/3037
END:VEVENT
END:VCALENDAR
