BEGIN:VCALENDAR
METHOD:PUBLISH
CALSCALE:GREGORIAN
PRODID:Philharmonie.lu
VERSION:2.0
BEGIN:VEVENT
DTSTAMP:20210424T160400
DTSTART:20201115T110000
DTEND:20201115T130000
LOCATION:Place de l&#39;Europe
SUMMARY:«Caravane»
DESCRIPTION:Performance sonore pour un spectateur dans une caravane
Charlie Sdraulig: Collector
UID:event3043@Philharmonie.lu
URL:https://www.philharmonie.lu/programm/caravane/3043
END:VEVENT
END:VCALENDAR
