BEGIN:VCALENDAR
METHOD:PUBLISH
CALSCALE:GREGORIAN
PRODID:Philharmonie.lu
VERSION:2.0
BEGIN:VEVENT
DTSTAMP:20210422T215900
DTSTART:20210314T190000
DTEND:20210314T210000
LOCATION:Grand Auditorium
SUMMARY:Chick Corea: Vigilette
DESCRIPTION:with Carlitos Del Puerto and Marcus Gilmore

UID:event2922@Philharmonie.lu
URL:https://www.philharmonie.lu/programm/chick-corea-vigilette/2922
END:VEVENT
END:VCALENDAR
