BEGIN:VCALENDAR
METHOD:PUBLISH
CALSCALE:GREGORIAN
PRODID:Philharmonie.lu
VERSION:2.0
BEGIN:VEVENT
DTSTAMP:20210424T160800
DTSTART:20210609T200000
DTEND:20210609T220000
LOCATION:Grand Auditorium
SUMMARY:Ciné-concert «Batman (1989)»
DESCRIPTION:None
Film: Batman (1989)
UID:event3005@Philharmonie.lu
URL:https://www.philharmonie.lu/programm/cine-concert-batman-1989/3005
END:VEVENT
END:VCALENDAR
