BEGIN:VCALENDAR
METHOD:PUBLISH
CALSCALE:GREGORIAN
PRODID:Philharmonie.lu
VERSION:2.0
BEGIN:VEVENT
DTSTAMP:20210424T160600
DTSTART:20201120T200000
DTEND:20201120T220000
LOCATION:Grand Auditorium
SUMMARY:Ciné-concert «Das alte Gesetz»
DESCRIPTION:Ciné-Concert
Film: Das alte Gesetz
UID:event2804@Philharmonie.lu
URL:https://www.philharmonie.lu/programm/cine-concert-das-alte-gesetz/2804
END:VEVENT
END:VCALENDAR
