BEGIN:VCALENDAR
METHOD:PUBLISH
CALSCALE:GREGORIAN
PRODID:Philharmonie.lu
VERSION:2.0
BEGIN:VEVENT
DTSTAMP:20210422T220200
DTSTART:20210321T110000
DTEND:20210321T130000
LOCATION:Grand Auditorium
SUMMARY:Concert-apéritif V – Amis de l'OPL
DESCRIPTION:None
Gustav Mahler, Alfred Schnittke: Klavierquartett a-moll (la mineur)
Franz Schubert: Streichtrio D 471 
Bohuslav Martinů: Quatuor pour cordes et piano N° 1
UID:event2929@Philharmonie.lu
URL:https://www.philharmonie.lu/programm/concert-aperitif-v-amis-de-lopl/2929
END:VEVENT
END:VCALENDAR
