BEGIN:VCALENDAR
METHOD:PUBLISH
CALSCALE:GREGORIAN
PRODID:Philharmonie.lu
VERSION:2.0
BEGIN:VEVENT
DTSTAMP:20211007T054000
DTSTART:20191110T110000
DTEND:20191110T120000
LOCATION:Espace Découverte
SUMMARY:«De Kapitän Mullebutz a seng Séisswaassermatrousen si wibbeleg»
DESCRIPTION:Eng grouss musikalesch Party fir Kanner
UID:event2332@Philharmonie.lu
URL:https://www.philharmonie.lu/programm/de-kapitan-mullebutz-a-seng-seisswaassermatrousen-si-wibbeleg/2332
END:VEVENT
END:VCALENDAR
