BEGIN:VCALENDAR
METHOD:PUBLISH
CALSCALE:GREGORIAN
PRODID:Philharmonie.lu
VERSION:2.0
BEGIN:VEVENT
DTSTAMP:20210422T220100
DTSTART:20210320T160000
DTEND:20210320T170000
LOCATION:Espace Découverte
SUMMARY:«Den Här Blo dreemt vum Mier»
DESCRIPTION:Erzielconcert
UID:event2928@Philharmonie.lu
URL:https://www.philharmonie.lu/programm/den-har-blo-dreemt-vum-mier/2928
END:VEVENT
END:VCALENDAR
