BEGIN:VCALENDAR
METHOD:PUBLISH
CALSCALE:GREGORIAN
PRODID:Philharmonie.lu
VERSION:2.0
BEGIN:VEVENT
DTSTAMP:20210422T220200
DTSTART:20210321T110000
DTEND:20210321T120000
LOCATION:Espace Découverte
SUMMARY:«Den Här Blo dreemt vum Mier»
DESCRIPTION:Erzielconcert
UID:event2930@Philharmonie.lu
URL:https://www.philharmonie.lu/programm/den-har-blo-dreemt-vum-mier/2930
END:VEVENT
END:VCALENDAR
