BEGIN:VCALENDAR
METHOD:PUBLISH
CALSCALE:GREGORIAN
PRODID:Philharmonie.lu
VERSION:2.0
BEGIN:VEVENT
DTSTAMP:20210424T160300
DTSTART:20201114T140000
DTEND:20201114T160000
LOCATION:Salle de Musique de Chambre
SUMMARY:«Destroy Erase Improve»
DESCRIPTION:Concert performance
Natacha Diels: Sad Music for Lonely People
Paul Clift: Shadow Art II
Andrius Arutiunian: It’s Always Sunny the Next Day for flute, clarinet, harp, vibraphone and tape
Paul Frick: Destroy Erase Improve für Harfe, Schlagzeug und Diaprojektor
Piotr Bednarczyk: Overload for flute, clarinet, harp, percussion, electronics and video
UID:event3039@Philharmonie.lu
URL:https://www.philharmonie.lu/programm/destroy-erase-improve/3039
END:VEVENT
END:VCALENDAR
