BEGIN:VCALENDAR
METHOD:PUBLISH
CALSCALE:GREGORIAN
PRODID:Philharmonie.lu
VERSION:2.0
BEGIN:VEVENT
DTSTAMP:20210424T161000
DTSTART:20210305T103000
DTEND:20210305T123000
LOCATION:Grand Auditorium
SUMMARY:«Die Schottische»
DESCRIPTION:Eng abenteuerlech a musikalesch Rees fir Kanner ab 6 Joer
Felix Mendelssohn Bartholdy: Symphonie N° 3 «Schottische» / «Écossaise» (Extraiten)
UID:event3218@Philharmonie.lu
URL:https://www.philharmonie.lu/programm/die-schottische/3218
END:VEVENT
END:VCALENDAR
