BEGIN:VCALENDAR
METHOD:PUBLISH
CALSCALE:GREGORIAN
PRODID:Philharmonie.lu
VERSION:2.0
BEGIN:VEVENT
DTSTAMP:20210424T160600
DTSTART:20201121T110000
DTEND:20201121T130000
LOCATION:Clausen &amp; Grund
SUMMARY:«Driwwer Drënner Drop»
DESCRIPTION:Promenade sonore autour des ponts en compagnie des musiciens de l’UGDA
Catherine Kontz: Driwwer Drënner Drop (création, commande Philharmonie)
UID:event3047@Philharmonie.lu
URL:https://www.philharmonie.lu/programm/driwwer-drenner-drop/3047
END:VEVENT
END:VCALENDAR
