BEGIN:VCALENDAR
METHOD:PUBLISH
CALSCALE:GREGORIAN
PRODID:Philharmonie.lu
VERSION:2.0
BEGIN:VEVENT
DTSTAMP:20211007T053900
DTSTART:20201004T150000
DTEND:20201004T160000
LOCATION:Grand Auditorium
SUMMARY:«D’Zauberdëppen»
DESCRIPTION:Erzielconcert aus Westafrika
UID:event3081@Philharmonie.lu
URL:https://www.philharmonie.lu/programm/dzauberdeppen/3081
END:VEVENT
END:VCALENDAR
