BEGIN:VCALENDAR
METHOD:PUBLISH
CALSCALE:GREGORIAN
PRODID:Philharmonie.lu
VERSION:2.0
BEGIN:VEVENT
DTSTAMP:20210422T220000
DTSTART:20210318T200000
DTEND:20210318T220000
LOCATION:Salle de Musique de Chambre
SUMMARY:Emerson String Quartet
DESCRIPTION:None
Aleksandr Borodine: Quatuor à cordes N° 2
Piotr Ilitch Tchaïkovski: Quatuor a cordes N° 1
Dmitri Chostakovitch: Quatuor à cordes N° 9
UID:event2926@Philharmonie.lu
URL:https://www.philharmonie.lu/programm/emerson-string-quartet/2926
END:VEVENT
END:VCALENDAR
