BEGIN:VCALENDAR
METHOD:PUBLISH
CALSCALE:GREGORIAN
PRODID:Philharmonie.lu
VERSION:2.0
BEGIN:VEVENT
DTSTAMP:20210422T220200
DTSTART:20210321T160000
DTEND:20210321T180000
LOCATION:Salle de Musique de Chambre
SUMMARY:Face-à-Face: Schubert «Death and the Maiden»
DESCRIPTION:None
Franz Schubert: Streichquartett D 810 «Der Tod und das Mädchen» / «Death and the Maiden»
UID:event2931@Philharmonie.lu
URL:https://www.philharmonie.lu/programm/face-a-face-schubert-death-and-the-maiden/2931
END:VEVENT
END:VCALENDAR
