BEGIN:VCALENDAR
METHOD:PUBLISH
CALSCALE:GREGORIAN
PRODID:Philharmonie.lu
VERSION:2.0
BEGIN:VEVENT
DTSTAMP:20210424T160300
DTSTART:20201114T153000
DTEND:20201114T173000
LOCATION:Grand Foyer
SUMMARY:«flux/us»
DESCRIPTION:Fluxus Room Studies
Stellan Veloce: a gigantic blowing machine or a pocket tin-sandwich 
Davide Tidoni: feedback
Davide Tidoni: My Target is Your Eyes
Louis d’Heudières: Laughter Studies 3 
UID:event3040@Philharmonie.lu
URL:https://www.philharmonie.lu/programm/fluxus/3040
END:VEVENT
END:VCALENDAR
