BEGIN:VCALENDAR
METHOD:PUBLISH
CALSCALE:GREGORIAN
PRODID:Philharmonie.lu
VERSION:2.0
BEGIN:VEVENT
DTSTAMP:20210424T160200
DTSTART:20201112T210000
DTEND:20201112T230000
LOCATION:Luxembourg, Grand Théâtre
SUMMARY:François Sarhan & William Kentridge – «Telegrams from the Nose»
DESCRIPTION:rainy days &amp;amp; red bridge project opening
William Kentridge, François Sarhan: O Sentimental Machine (création, commande Philharmonie et Les Théâtres de la Ville de Luxembourg)
William Kentridge, François Sarhan: Telegrams from the Nose
UID:event3129@Philharmonie.lu
URL:https://www.philharmonie.lu/programm/francois-sarhan-william-kentridge-telegrams-from-the-nose/3129
END:VEVENT
END:VCALENDAR
