BEGIN:VCALENDAR
METHOD:PUBLISH
CALSCALE:GREGORIAN
PRODID:Philharmonie.lu
VERSION:2.0
BEGIN:VEVENT
DTSTAMP:20210422T215900
DTSTART:20210313T200000
DTEND:20210313T220000
LOCATION:Salle de Musique de Chambre
SUMMARY:Georges Urwald & FLOTT 
DESCRIPTION:Présentation du nouvel album
Compositions de Georges Urwald sur des textes en luxembourgeois d’auteurs contemporains : None
UID:event2918@Philharmonie.lu
URL:https://www.philharmonie.lu/programm/georges-urwald-flott/2918
END:VEVENT
END:VCALENDAR
