BEGIN:VCALENDAR
METHOD:PUBLISH
CALSCALE:GREGORIAN
PRODID:Philharmonie.lu
VERSION:2.0
BEGIN:VEVENT
DTSTAMP:20210424T160600
DTSTART:20201121T180000
DTEND:20201121T200000
LOCATION:Salle de Musique de Chambre
SUMMARY:«Ghost Trance Music»
DESCRIPTION:None
Anthony Braxton: Ghost Trance Music: Composition 255
UID:event3049@Philharmonie.lu
URL:https://www.philharmonie.lu/programm/ghost-trance-music/3049
END:VEVENT
END:VCALENDAR
