BEGIN:VCALENDAR
METHOD:PUBLISH
CALSCALE:GREGORIAN
PRODID:Philharmonie.lu
VERSION:2.0
BEGIN:VEVENT
DTSTAMP:20170621T141000
DTSTART:20150919T200000
DTEND:20150919T220000
LOCATION:Grand Auditorium
SUMMARY:Haydn: Die Schöpfung
DESCRIPTION:Junge Kultur in der Großregion
Joseph Haydn: Die Schöpfung (La Création)
UID:event744@Philharmonie.lu
URL:https://www.philharmonie.lu/programm/haydn-die-schopfung/744
END:VEVENT
END:VCALENDAR
