BEGIN:VCALENDAR
METHOD:PUBLISH
CALSCALE:GREGORIAN
PRODID:Philharmonie.lu
VERSION:2.0
BEGIN:VEVENT
DTSTAMP:20210424T160700
DTSTART:20201122T170000
DTEND:20201122T190000
LOCATION:Salle de Musique de Chambre
SUMMARY:«Isles & Rivers»
DESCRIPTION:None
Œuvres de Keyvan et Bijan Chemirani, Falconieri, Kyriakides, Merula, Muffat, Rognoni, Sciarrino, Sinopoulos
UID:event2806@Philharmonie.lu
URL:https://www.philharmonie.lu/programm/isles-rivers/2806
END:VEVENT
END:VCALENDAR
