BEGIN:VCALENDAR
METHOD:PUBLISH
CALSCALE:GREGORIAN
PRODID:Philharmonie.lu
VERSION:2.0
BEGIN:VEVENT
DTSTAMP:20210422T220200
DTSTART:20210322T200000
DTEND:20210322T220000
LOCATION:Grand Auditorium
SUMMARY:Israel Philharmonic Orchestra / Lahav Shani / Nikolaj Szeps-Znaider
DESCRIPTION:None
Johannes Brahms: Violinkonzert
Dmitri Chostakovitch: Symphonie N° 5
UID:event2933@Philharmonie.lu
URL:https://www.philharmonie.lu/programm/israel-philharmonic-orchestra-lahav-shani-nikolaj-szeps-znaider/2933
END:VEVENT
END:VCALENDAR
