BEGIN:VCALENDAR
METHOD:PUBLISH
CALSCALE:GREGORIAN
PRODID:Philharmonie.lu
VERSION:2.0
BEGIN:VEVENT
DTSTAMP:20210422T215700
DTSTART:20210304T200000
DTEND:20210304T220000
LOCATION:Salle de Musique de Chambre
SUMMARY:Joe Lovano
DESCRIPTION:«Trio Tapestry»
UID:event2906@Philharmonie.lu
URL:https://www.philharmonie.lu/programm/joe-lovano/2906
END:VEVENT
END:VCALENDAR
